Package: scuttle Version: 1.20.0 Command: /Library/Frameworks/R.framework/Resources/bin/R CMD INSTALL scuttle StartedAt: 2025-11-20 16:19:16 -0500 (Thu, 20 Nov 2025) EndedAt: 2025-11-20 16:21:32 -0500 (Thu, 20 Nov 2025) EllapsedTime: 136.8 seconds RetCode: 0 Status: OK