Package: scuttle Version: 1.19.0 Command: /home/biocbuild/bbs-3.22-bioc/R/bin/R CMD build --keep-empty-dirs --no-resave-data --md5 scuttle StartedAt: 2025-07-18 19:06:13 -0400 (Fri, 18 Jul 2025) EndedAt: 2025-07-18 19:08:55 -0400 (Fri, 18 Jul 2025) EllapsedTime: 161.2 seconds RetCode: 0 Status: OK PackageFile: scuttle_1.19.0.tar.gz PackageFileSize: 1011 KiB