Package: scuttle Version: 1.19.0 Command: /home/biocbuild/bbs-3.22-bioc/R/bin/R CMD INSTALL scuttle StartedAt: 2025-07-18 15:17:10 -0400 (Fri, 18 Jul 2025) EndedAt: 2025-07-18 15:18:18 -0400 (Fri, 18 Jul 2025) EllapsedTime: 68.2 seconds RetCode: 0 Status: OK