Package: spatialFDA Version: 1.2.0 Command: /home/biocbuild/bbs-3.22-bioc/R/bin/R CMD build --keep-empty-dirs --no-resave-data --md5 spatialFDA StartedAt: 2025-11-17 23:40:50 -0500 (Mon, 17 Nov 2025) EndedAt: 2025-11-17 23:46:58 -0500 (Mon, 17 Nov 2025) EllapsedTime: 368.3 seconds RetCode: 0 Status: OK PackageFile: spatialFDA_1.2.0.tar.gz PackageFileSize: 6.145 MiB