Package: spatialFDA Version: 1.2.0 Command: /home/biocbuild/bbs-3.22-bioc/R/bin/R CMD INSTALL spatialFDA StartedAt: 2025-11-16 15:28:30 -0500 (Sun, 16 Nov 2025) EndedAt: 2025-11-16 15:29:09 -0500 (Sun, 16 Nov 2025) EllapsedTime: 39.3 seconds RetCode: 0 Status: OK