Package: spatialSimGP Version: 1.4.0 Command: /home/biocbuild/bbs-3.22-bioc/R/bin/R CMD build --keep-empty-dirs --no-resave-data --md5 spatialSimGP StartedAt: 2025-11-16 20:25:16 -0500 (Sun, 16 Nov 2025) EndedAt: 2025-11-16 20:26:17 -0500 (Sun, 16 Nov 2025) EllapsedTime: 61.0 seconds RetCode: 0 Status: OK PackageFile: spatialSimGP_1.4.0.tar.gz PackageFileSize: 696 KiB