Package: spatialSimGP Version: 1.4.0 Command: /home/biocbuild/bbs-3.22-bioc/R/bin/R CMD INSTALL spatialSimGP StartedAt: 2025-11-16 15:34:55 -0500 (Sun, 16 Nov 2025) EndedAt: 2025-11-16 15:35:19 -0500 (Sun, 16 Nov 2025) EllapsedTime: 23.7 seconds RetCode: 0 Status: OK