Package: spkTools Version: 1.65.0 Command: /home/biocbuild/bbs-3.22-bioc/R/bin/R CMD INSTALL spkTools StartedAt: 2025-10-03 15:13:00 -0400 (Fri, 03 Oct 2025) EndedAt: 2025-10-03 15:13:04 -0400 (Fri, 03 Oct 2025) EllapsedTime: 4.3 seconds RetCode: 0 Status: OK