Package: swfdr Version: 1.36.0 Command: /home/biocbuild/bbs-3.22-bioc/R/bin/R CMD INSTALL swfdr StartedAt: 2025-11-03 15:03:52 -0500 (Mon, 03 Nov 2025) EndedAt: 2025-11-03 15:04:17 -0500 (Mon, 03 Nov 2025) EllapsedTime: 24.5 seconds RetCode: 0 Status: OK