Package: tidyCoverage Version: 1.6.0 Command: rm -rf tidyCoverage.buildbin-libdir && mkdir tidyCoverage.buildbin-libdir && /Users/biocbuild/BBS/utils/build-universal.sh tidyCoverage_1.6.0.tar.gz /Library/Frameworks/R.framework/Resources/bin/R tidyCoverage.buildbin-libdir StartedAt: 2025-11-23 11:55:25 -0500 (Sun, 23 Nov 2025) EndedAt: 2025-11-23 11:56:29 -0500 (Sun, 23 Nov 2025) EllapsedTime: 64.0 seconds RetCode: 0 Status: OK PackageFile: tidyCoverage_1.6.0.tgz PackageFileSize: 4.219 MiB