Package: tidyCoverage Version: 1.6.0 Command: /Library/Frameworks/R.framework/Resources/bin/R CMD build --keep-empty-dirs --no-resave-data tidyCoverage StartedAt: 2025-11-21 12:16:11 -0500 (Fri, 21 Nov 2025) EndedAt: 2025-11-21 12:21:40 -0500 (Fri, 21 Nov 2025) EllapsedTime: 328.3 seconds RetCode: 0 Status: OK PackageFile: tidyCoverage_1.6.0.tar.gz PackageFileSize: 3.899 MiB