Package: tidyCoverage Version: 1.6.0 Command: /Library/Frameworks/R.framework/Resources/bin/R CMD INSTALL tidyCoverage StartedAt: 2025-11-20 17:28:22 -0500 (Thu, 20 Nov 2025) EndedAt: 2025-11-20 17:29:04 -0500 (Thu, 20 Nov 2025) EllapsedTime: 41.8 seconds RetCode: 0 Status: OK