Package: tidyCoverage Version: 1.6.0 Command: rm -rf tidyCoverage.buildbin-libdir && mkdir tidyCoverage.buildbin-libdir && /Users/biocbuild/BBS/utils/build-universal.sh tidyCoverage_1.6.0.tar.gz /Library/Frameworks/R.framework/Resources/bin/R tidyCoverage.buildbin-libdir StartedAt: 2025-11-21 15:47:51 -0500 (Fri, 21 Nov 2025) EndedAt: 2025-11-21 15:49:13 -0500 (Fri, 21 Nov 2025) EllapsedTime: 82.1 seconds RetCode: 0 Status: OK PackageFile: tidyCoverage_1.6.0.tgz PackageFileSize: 4.218 MiB