Package: tidyCoverage Version: 1.6.0 Command: /Library/Frameworks/R.framework/Resources/bin/R CMD build --keep-empty-dirs --no-resave-data tidyCoverage StartedAt: 2025-11-21 00:25:31 -0500 (Fri, 21 Nov 2025) EndedAt: 2025-11-21 00:31:54 -0500 (Fri, 21 Nov 2025) EllapsedTime: 382.9 seconds RetCode: 0 Status: OK PackageFile: tidyCoverage_1.6.0.tar.gz PackageFileSize: 3.898 MiB