Package: tidyCoverage Version: 1.6.0 Command: /Library/Frameworks/R.framework/Resources/bin/R CMD INSTALL tidyCoverage StartedAt: 2025-11-24 15:57:27 -0500 (Mon, 24 Nov 2025) EndedAt: 2025-11-24 15:58:42 -0500 (Mon, 24 Nov 2025) EllapsedTime: 74.8 seconds RetCode: 0 Status: OK