Package: tidyFlowCore Version: 1.4.0 Command: /Library/Frameworks/R.framework/Resources/bin/R CMD build --keep-empty-dirs --no-resave-data tidyFlowCore StartedAt: 2025-11-02 19:07:01 -0500 (Sun, 02 Nov 2025) EndedAt: 2025-11-02 19:08:11 -0500 (Sun, 02 Nov 2025) EllapsedTime: 70.1 seconds RetCode: 0 Status: OK PackageFile: tidyFlowCore_1.4.0.tar.gz PackageFileSize: 776.1 KiB