Package: tidyFlowCore Version: 1.4.0 Command: /Library/Frameworks/R.framework/Resources/bin/R CMD INSTALL tidyFlowCore StartedAt: 2025-10-31 15:24:51 -0400 (Fri, 31 Oct 2025) EndedAt: 2025-10-31 15:25:12 -0400 (Fri, 31 Oct 2025) EllapsedTime: 21.0 seconds RetCode: 0 Status: OK