Package: tidySpatialExperiment Version: 1.5.0 Command: /home/biocbuild/bbs-3.22-bioc/R/bin/R CMD build --keep-empty-dirs --no-resave-data --md5 tidySpatialExperiment StartedAt: 2025-10-08 20:55:07 -0400 (Wed, 08 Oct 2025) EndedAt: 2025-10-08 20:55:58 -0400 (Wed, 08 Oct 2025) EllapsedTime: 51.0 seconds RetCode: 0 Status: OK PackageFile: tidySpatialExperiment_1.5.0.tar.gz PackageFileSize: 4.305 MiB