Package: tidySummarizedExperiment Version: 1.20.1 Command: /home/biocbuild/bbs-3.22-bioc/R/bin/R CMD build --keep-empty-dirs --no-resave-data --md5 tidySummarizedExperiment StartedAt: 2025-11-20 21:22:17 -0500 (Thu, 20 Nov 2025) EndedAt: 2025-11-20 21:22:57 -0500 (Thu, 20 Nov 2025) EllapsedTime: 40.0 seconds RetCode: 0 Status: OK PackageFile: tidySummarizedExperiment_1.20.1.tar.gz PackageFileSize: 394.8 KiB