Package: tidySummarizedExperiment Version: 1.20.1 Command: /home/biocbuild/bbs-3.22-bioc/R/bin/R CMD INSTALL tidySummarizedExperiment StartedAt: 2025-11-20 16:25:11 -0500 (Thu, 20 Nov 2025) EndedAt: 2025-11-20 16:25:38 -0500 (Thu, 20 Nov 2025) EllapsedTime: 26.5 seconds RetCode: 0 Status: OK