Package: tilingArray Version: 1.87.0 Command: /home/biocbuild/bbs-3.22-bioc/R/bin/R CMD INSTALL tilingArray StartedAt: 2025-10-13 15:59:16 -0400 (Mon, 13 Oct 2025) EndedAt: 2025-10-13 15:59:40 -0400 (Mon, 13 Oct 2025) EllapsedTime: 23.8 seconds RetCode: 0 Status: OK