Package: treeio Version: 1.34.0 Command: /home/biocbuild/bbs-3.22-bioc/R/bin/R CMD INSTALL treeio StartedAt: 2025-11-20 15:59:37 -0500 (Thu, 20 Nov 2025) EndedAt: 2025-11-20 15:59:46 -0500 (Thu, 20 Nov 2025) EllapsedTime: 9.2 seconds RetCode: 0 Status: OK