Package: variancePartition Version: 1.39.3 Command: /home/biocbuild/bbs-3.22-bioc/R/bin/R CMD build --keep-empty-dirs --no-resave-data --md5 variancePartition StartedAt: 2025-10-03 20:38:15 -0400 (Fri, 03 Oct 2025) EndedAt: 2025-10-03 20:49:47 -0400 (Fri, 03 Oct 2025) EllapsedTime: 691.7 seconds RetCode: 0 Status: OK PackageFile: variancePartition_1.39.3.tar.gz PackageFileSize: 4.727 MiB