Package: variancePartition Version: 1.39.3 Command: /home/biocbuild/bbs-3.22-bioc/R/bin/R CMD INSTALL variancePartition StartedAt: 2025-10-03 15:11:07 -0400 (Fri, 03 Oct 2025) EndedAt: 2025-10-03 15:11:27 -0400 (Fri, 03 Oct 2025) EllapsedTime: 19.7 seconds RetCode: 0 Status: OK