Package: webbioc Version: 1.82.0 Command: /home/biocbuild/bbs-3.22-bioc/R/bin/R CMD build --keep-empty-dirs --no-resave-data --md5 webbioc StartedAt: 2025-11-18 00:15:06 -0500 (Tue, 18 Nov 2025) EndedAt: 2025-11-18 00:15:32 -0500 (Tue, 18 Nov 2025) EllapsedTime: 26.0 seconds RetCode: 0 Status: OK PackageFile: webbioc_1.82.0.tar.gz PackageFileSize: 312.5 KiB