Package: webbioc Version: 1.82.0 Command: /home/biocbuild/bbs-3.22-bioc/R/bin/R CMD INSTALL webbioc StartedAt: 2025-11-17 18:03:04 -0500 (Mon, 17 Nov 2025) EndedAt: 2025-11-17 18:03:29 -0500 (Mon, 17 Nov 2025) EllapsedTime: 25.2 seconds RetCode: 0 Status: OK