Back to Multiple platform build/check report for BioC 3.22:   simplified   long
ABCDEFGHIJKLMNOPQRSTUVW[X]YZ

This page was generated on 2025-11-07 12:00 -0500 (Fri, 07 Nov 2025).

HostnameOSArch (*)R versionInstalled pkgs
nebbiolo2Linux (Ubuntu 24.04.3 LTS)x86_644.5.1 Patched (2025-08-23 r88802) -- "Great Square Root" 4902
kjohnson3macOS 13.7.7 Venturaarm644.5.1 Patched (2025-09-10 r88807) -- "Great Square Root" 4638
Click on any hostname to see more info about the system (e.g. compilers)      (*) as reported by 'uname -p', except on Windows and Mac OS X

All results for package xcms


To the developers/maintainers of the xcms package:
- Allow up to 24 hours (and sometimes 48 hours) for your latest push to git@git.bioconductor.org:packages/xcms.git to reflect on this report. See Troubleshooting Build Report for more information.
- Use the following Renviron settings to reproduce errors and warnings.
- If 'R CMD check' started to fail recently on the Linux builder(s) over a missing dependency, add the missing dependency to 'Suggests:' in your DESCRIPTION file. See Renviron.bioc for more information.

raw results

Package 2343/2361HostnameOS / ArchINSTALLBUILDCHECKBUILD BIN
xcms 4.8.0  (landing page)
Steffen Neumann
Snapshot Date: 2025-11-06 13:45 -0500 (Thu, 06 Nov 2025)
git_url: https://git.bioconductor.org/packages/xcms
git_branch: RELEASE_3_22
git_last_commit: 8c7e9cf
git_last_commit_date: 2025-10-29 09:56:19 -0500 (Wed, 29 Oct 2025)
nebbiolo2Linux (Ubuntu 24.04.3 LTS) / x86_64  OK    OK    OK  UNNEEDED, same version is already published
kjohnson3macOS 13.7.7 Ventura / arm64  OK    OK    OK    OK  UNNEEDED, same version is already published



Results for Bioconductor software packages that depend directly on package xcms

QUICK STATSOS / ArchINSTALLBUILDCHECKBUILD BIN
nebbiolo2Linux (Ubuntu 24.04.3 LTS) / x86_64
0010
0010
0028
kjohnson3macOS 13.7.7 Ventura / arm64
0010
028
0125
008
Package 1/10HostnameOS / ArchINSTALLBUILDCHECKBUILD BIN
CAMERA 1.66.0  (landing page)
Steffen Neumann
git_last_commit: fcd3b86
git_last_commit_date: 2025-10-29 10:02:23 -0500
nebbiolo2Linux (Ubuntu 24.04.3 LTS) / x86_64  OK    OK    WARNINGS  UNNEEDED, same version is already published
kjohnson3macOS 13.7.7 Ventura / arm64  OK    OK    ERROR    OK  
Package 2/10HostnameOS / ArchINSTALLBUILDCHECKBUILD BIN
cliqueMS 1.24.0  (landing page)
Oriol Senan Campos
git_last_commit: ce55a9e
git_last_commit_date: 2025-10-29 11:31:29 -0500
nebbiolo2Linux (Ubuntu 24.04.3 LTS) / x86_64  OK    OK    OK  UNNEEDED, same version is already published
kjohnson3macOS 13.7.7 Ventura / arm64  OK    OK    WARNINGS    OK  UNNEEDED, same version is already published
Package 3/10HostnameOS / ArchINSTALLBUILDCHECKBUILD BIN
cosmiq 1.44.0  (landing page)
David Fischer
git_last_commit: b743b8d
git_last_commit_date: 2025-10-29 10:19:47 -0500
nebbiolo2Linux (Ubuntu 24.04.3 LTS) / x86_64  OK    OK    OK  UNNEEDED, same version is already published
kjohnson3macOS 13.7.7 Ventura / arm64  OK    OK    OK    OK  UNNEEDED, same version is already published
Package 4/10HostnameOS / ArchINSTALLBUILDCHECKBUILD BIN
flagme 1.66.0  (landing page)
Mark Robinson , Riccardo Romoli
git_last_commit: cfc1743
git_last_commit_date: 2025-10-29 10:02:01 -0500
nebbiolo2Linux (Ubuntu 24.04.3 LTS) / x86_64  OK    OK    WARNINGS  UNNEEDED, same version is already published
kjohnson3macOS 13.7.7 Ventura / arm64  OK    OK    WARNINGS    OK  NO, package depends on 'CAMERA' which is only available as a source package that needs compilation
Package 5/10HostnameOS / ArchINSTALLBUILDCHECKBUILD BIN
IPO 1.36.0  (landing page)
Thomas Lieb
git_last_commit: 94c7d49
git_last_commit_date: 2025-10-29 10:33:40 -0500
nebbiolo2Linux (Ubuntu 24.04.3 LTS) / x86_64  OK    OK    OK  UNNEEDED, same version is already published
kjohnson3macOS 13.7.7 Ventura / arm64  OK    ERROR  skippedskipped
Package 6/10HostnameOS / ArchINSTALLBUILDCHECKBUILD BIN
LOBSTAHS 1.36.0  (landing page)
Henry Holm
git_last_commit: b35ad6c
git_last_commit_date: 2025-10-29 10:33:12 -0500
nebbiolo2Linux (Ubuntu 24.04.3 LTS) / x86_64  OK    OK    OK  UNNEEDED, same version is already published
kjohnson3macOS 13.7.7 Ventura / arm64  OK    OK    OK    OK  NO, package depends on 'CAMERA' which is only available as a source package that needs compilation
Package 7/10HostnameOS / ArchINSTALLBUILDCHECKBUILD BIN
MAIT 1.44.0  (landing page)
Pol Sola-Santos
git_last_commit: cf370fa
git_last_commit_date: 2025-10-29 10:22:14 -0500
nebbiolo2Linux (Ubuntu 24.04.3 LTS) / x86_64  OK    OK    OK  UNNEEDED, same version is already published
kjohnson3macOS 13.7.7 Ventura / arm64  OK    ERROR  skippedskipped
Package 8/10HostnameOS / ArchINSTALLBUILDCHECKBUILD BIN
metaMS 1.46.0  (landing page)
Yann Guitton
git_last_commit: d4799db
git_last_commit_date: 2025-10-29 10:19:03 -0500
nebbiolo2Linux (Ubuntu 24.04.3 LTS) / x86_64  OK    OK    OK  UNNEEDED, same version is already published
kjohnson3macOS 13.7.7 Ventura / arm64  OK    OK    OK    OK  NO, package depends on 'CAMERA' which is only available as a source package that needs compilation
Package 9/10HostnameOS / ArchINSTALLBUILDCHECKBUILD BIN
ncGTW 1.24.0  (landing page)
Chiung-Ting Wu
git_last_commit: 2eb1b4f
git_last_commit_date: 2025-10-29 10:53:19 -0500
nebbiolo2Linux (Ubuntu 24.04.3 LTS) / x86_64  OK    OK    OK  UNNEEDED, same version is already published
kjohnson3macOS 13.7.7 Ventura / arm64  OK    OK    OK    OK  UNNEEDED, same version is already published
Package 10/10HostnameOS / ArchINSTALLBUILDCHECKBUILD BIN
squallms 1.4.0  (landing page)
William Kumler
git_last_commit: b2083b7
git_last_commit_date: 2025-10-29 11:30:51 -0500
nebbiolo2Linux (Ubuntu 24.04.3 LTS) / x86_64  OK    OK    OK  UNNEEDED, same version is already published
kjohnson3macOS 13.7.7 Ventura / arm64  OK    OK    OK    OK  UNNEEDED, same version is already published