Package: EuPathDB Version: 1.0.1 Command: /home/biocbuild/bbs-3.22-bioc/R/bin/R CMD build --keep-empty-dirs --no-resave-data EuPathDB StartedAt: 2025-10-22 05:57:14 -0400 (Wed, 22 Oct 2025) EndedAt: 2025-10-22 05:58:19 -0400 (Wed, 22 Oct 2025) EllapsedTime: 64.2 seconds RetCode: 1 Status: ERROR PackageFile: None PackageFileSize: NA