Package: EuPathDB Version: 1.0.1 Command: /home/biocbuild/bbs-3.22-bioc/R/bin/R CMD INSTALL EuPathDB StartedAt: 2025-10-22 05:55:27 -0400 (Wed, 22 Oct 2025) EndedAt: 2025-10-22 05:56:32 -0400 (Wed, 22 Oct 2025) EllapsedTime: 65.0 seconds RetCode: 0 Status: OK