Package: UCSCRepeatMasker Version: 3.22.0 Command: /home/biocbuild/bbs-3.22-bioc/R/bin/R CMD build --keep-empty-dirs --no-resave-data UCSCRepeatMasker StartedAt: 2025-11-26 05:58:16 -0500 (Wed, 26 Nov 2025) EndedAt: 2025-11-26 05:58:46 -0500 (Wed, 26 Nov 2025) EllapsedTime: 29.2 seconds RetCode: 1 Status: ERROR PackageFile: None PackageFileSize: NA