Package: UCSCRepeatMasker Version: 3.22.0 Command: /home/biocbuild/bbs-3.22-bioc/R/bin/R CMD INSTALL UCSCRepeatMasker StartedAt: 2025-11-26 05:55:10 -0500 (Wed, 26 Nov 2025) EndedAt: 2025-11-26 05:55:28 -0500 (Wed, 26 Nov 2025) EllapsedTime: 18.5 seconds RetCode: 0 Status: OK