Package: cadd.v1.6.hg38 Version: 3.18.1 Command: /home/biocbuild/bbs-3.22-bioc/R/bin/R CMD INSTALL cadd.v1.6.hg38 StartedAt: 2025-10-15 05:55:25 -0400 (Wed, 15 Oct 2025) EndedAt: 2025-10-15 05:55:43 -0400 (Wed, 15 Oct 2025) EllapsedTime: 17.3 seconds RetCode: 0 Status: OK