Package: metaboliteIDmapping Version: 0.99.11 Command: /home/biocbuild/bbs-3.22-bioc/R/bin/R CMD build --keep-empty-dirs --no-resave-data metaboliteIDmapping StartedAt: 2025-10-29 05:57:05 -0400 (Wed, 29 Oct 2025) EndedAt: 2025-10-29 05:58:22 -0400 (Wed, 29 Oct 2025) EllapsedTime: 77.5 seconds RetCode: 0 Status: OK PackageFile: metaboliteIDmapping_0.99.11.tar.gz PackageFileSize: 312.4 KiB