Package: ALL Version: 1.51.0 Command: /home/biocbuild/bbs-3.22-bioc/R/bin/R CMD build --keep-empty-dirs --no-resave-data ALL StartedAt: 2025-10-21 11:06:22 -0400 (Tue, 21 Oct 2025) EndedAt: 2025-10-21 11:06:37 -0400 (Tue, 21 Oct 2025) EllapsedTime: 14.7 seconds RetCode: 0 Status: OK PackageFile: ALL_1.51.0.tar.gz PackageFileSize: 10.93 MiB