Package: ALL Version: 1.51.0 Command: /home/biocbuild/bbs-3.22-bioc/R/bin/R CMD INSTALL ALL StartedAt: 2025-10-21 10:56:15 -0400 (Tue, 21 Oct 2025) EndedAt: 2025-10-21 10:56:19 -0400 (Tue, 21 Oct 2025) EllapsedTime: 4.4 seconds RetCode: 0 Status: OK