Package: AWAggregatorData Version: 0.99.4 Command: /home/biocbuild/bbs-3.22-bioc/R/bin/R CMD build --keep-empty-dirs --no-resave-data AWAggregatorData StartedAt: 2025-10-16 11:06:40 -0400 (Thu, 16 Oct 2025) EndedAt: 2025-10-16 11:07:22 -0400 (Thu, 16 Oct 2025) EllapsedTime: 42.5 seconds RetCode: 0 Status: OK PackageFile: AWAggregatorData_0.99.4.tar.gz PackageFileSize: 220.4 KiB