Package: AWAggregatorData Version: 0.99.4 Command: /home/biocbuild/bbs-3.22-bioc/R/bin/R CMD INSTALL AWAggregatorData StartedAt: 2025-10-16 10:57:05 -0400 (Thu, 16 Oct 2025) EndedAt: 2025-10-16 10:57:17 -0400 (Thu, 16 Oct 2025) EllapsedTime: 12.5 seconds RetCode: 0 Status: OK