Package: BeadArrayUseCases Version: 1.47.0 Command: /home/biocbuild/bbs-3.22-bioc/R/bin/R CMD build --keep-empty-dirs --no-resave-data BeadArrayUseCases StartedAt: 2025-07-10 11:08:19 -0400 (Thu, 10 Jul 2025) EndedAt: 2025-07-10 11:15:43 -0400 (Thu, 10 Jul 2025) EllapsedTime: 444.1 seconds RetCode: 0 Status: OK PackageFile: BeadArrayUseCases_1.47.0.tar.gz PackageFileSize: 197.6 MiB