Package: BioImageDbs Version: 1.17.0 Command: /home/biocbuild/bbs-3.22-bioc/R/bin/R CMD build --keep-empty-dirs --no-resave-data BioImageDbs StartedAt: 2025-10-16 11:06:53 -0400 (Thu, 16 Oct 2025) EndedAt: 2025-10-16 11:10:28 -0400 (Thu, 16 Oct 2025) EllapsedTime: 214.8 seconds RetCode: 0 Status: OK PackageFile: BioImageDbs_1.17.0.tar.gz PackageFileSize: 44.22 MiB