Package: BioPlex Version: 1.15.0 Command: /home/biocbuild/bbs-3.22-bioc/R/bin/R CMD build --keep-empty-dirs --no-resave-data BioPlex StartedAt: 2025-10-16 11:06:56 -0400 (Thu, 16 Oct 2025) EndedAt: 2025-10-16 11:09:51 -0400 (Thu, 16 Oct 2025) EllapsedTime: 174.8 seconds RetCode: 0 Status: OK PackageFile: BioPlex_1.15.0.tar.gz PackageFileSize: 928.2 KiB