Package: BioPlex Version: 1.15.0 Command: /home/biocbuild/bbs-3.22-bioc/R/bin/R CMD INSTALL BioPlex StartedAt: 2025-10-16 10:59:22 -0400 (Thu, 16 Oct 2025) EndedAt: 2025-10-16 10:59:41 -0400 (Thu, 16 Oct 2025) EllapsedTime: 19.9 seconds RetCode: 0 Status: OK