Package: CLL Version: 1.49.0 Command: /home/biocbuild/bbs-3.22-bioc/R/bin/R CMD INSTALL CLL StartedAt: 2025-10-16 10:56:12 -0400 (Thu, 16 Oct 2025) EndedAt: 2025-10-16 10:56:18 -0400 (Thu, 16 Oct 2025) EllapsedTime: 5.5 seconds RetCode: 0 Status: OK