Package: DNAZooData Version: 1.10.0 Command: /home/biocbuild/bbs-3.22-bioc/R/bin/R CMD INSTALL DNAZooData StartedAt: 2025-11-18 11:00:28 -0500 (Tue, 18 Nov 2025) EndedAt: 2025-11-18 11:00:55 -0500 (Tue, 18 Nov 2025) EllapsedTime: 26.5 seconds RetCode: 0 Status: OK