Package: DeSousa2013 Version: 1.46.0 Command: /home/biocbuild/bbs-3.22-bioc/R/bin/R CMD build --keep-empty-dirs --no-resave-data DeSousa2013 StartedAt: 2025-11-18 11:21:35 -0500 (Tue, 18 Nov 2025) EndedAt: 2025-11-18 11:22:25 -0500 (Tue, 18 Nov 2025) EllapsedTime: 50.6 seconds RetCode: 0 Status: OK PackageFile: DeSousa2013_1.46.0.tar.gz PackageFileSize: 44.76 MiB