Package: Fletcher2013b Version: 1.46.0 Command: /home/biocbuild/bbs-3.22-bioc/R/bin/R CMD INSTALL Fletcher2013b StartedAt: 2025-11-20 11:05:20 -0500 (Thu, 20 Nov 2025) EndedAt: 2025-11-20 11:05:50 -0500 (Thu, 20 Nov 2025) EllapsedTime: 30.0 seconds RetCode: 0 Status: OK