Package: HCATonsilData Version: 1.8.0 Command: /home/biocbuild/bbs-3.22-bioc/R/bin/R CMD build --keep-empty-dirs --no-resave-data HCATonsilData StartedAt: 2025-11-20 11:24:57 -0500 (Thu, 20 Nov 2025) EndedAt: 2025-11-20 11:26:10 -0500 (Thu, 20 Nov 2025) EllapsedTime: 73.0 seconds RetCode: 0 Status: OK PackageFile: HCATonsilData_1.8.0.tar.gz PackageFileSize: 6.247 MiB