Package: HCATonsilData Version: 1.8.0 Command: /home/biocbuild/bbs-3.22-bioc/R/bin/R CMD INSTALL HCATonsilData StartedAt: 2025-11-20 11:03:50 -0500 (Thu, 20 Nov 2025) EndedAt: 2025-11-20 11:04:32 -0500 (Thu, 20 Nov 2025) EllapsedTime: 41.7 seconds RetCode: 0 Status: OK