Package: HD2013SGI Version: 1.50.0 Command: /home/biocbuild/bbs-3.22-bioc/R/bin/R CMD build --keep-empty-dirs --no-resave-data HD2013SGI StartedAt: 2025-10-30 11:30:02 -0400 (Thu, 30 Oct 2025) EndedAt: 2025-10-30 11:37:33 -0400 (Thu, 30 Oct 2025) EllapsedTime: 450.7 seconds RetCode: 0 Status: OK PackageFile: HD2013SGI_1.50.0.tar.gz PackageFileSize: 526.5 MiB