Package: HMP2Data Version: 1.23.0 Command: /home/biocbuild/bbs-3.22-bioc/R/bin/R CMD build --keep-empty-dirs --no-resave-data HMP2Data StartedAt: 2025-10-23 11:23:47 -0400 (Thu, 23 Oct 2025) EndedAt: 2025-10-23 11:24:59 -0400 (Thu, 23 Oct 2025) EllapsedTime: 71.8 seconds RetCode: 0 Status: OK PackageFile: HMP2Data_1.23.0.tar.gz PackageFileSize: 5.147 MiB