Package: HMP2Data Version: 1.23.0 Command: /home/biocbuild/bbs-3.22-bioc/R/bin/R CMD INSTALL HMP2Data StartedAt: 2025-10-23 11:01:48 -0400 (Thu, 23 Oct 2025) EndedAt: 2025-10-23 11:02:28 -0400 (Thu, 23 Oct 2025) EllapsedTime: 40.0 seconds RetCode: 0 Status: OK